BEGIN:VCALENDAR
PRODID:scnitm
VERSION:2.0
BEGIN:VTIMEZONE
TZID:my/AEST
BEGIN:STANDARD
DTSTART:19700101T010000
TZOFFSETFROM:+1000
TZOFFSETTO:+1000
END:STANDARD
END:VTIMEZONE
BEGIN:VTIMEZONE
TZID:my/AEDT
BEGIN:STANDARD
DTSTART:19700101T010000
TZOFFSETFROM:+1100
TZOFFSETTO:+1100
END:STANDARD
END:VTIMEZONE
BEGIN:VEVENT
UID:scnitm-4037586-1776960387-1
DTSTART;TZID=my/AEDT:20260304
SUMMARY:Quantum computing reading group
DESCRIPTION:See scnews item https://extern.maths.usyd.edu.au/s/scnitm/pieter-QuantumComputingReadingGr
END:VEVENT
END:VCALENDAR

