BEGIN:VCALENDAR
PRODID:scnitm
VERSION:2.0
BEGIN:VTIMEZONE
TZID:my/AEST
BEGIN:STANDARD
DTSTART:19700101T010000
TZOFFSETFROM:+1000
TZOFFSETTO:+1000
END:STANDARD
END:VTIMEZONE
BEGIN:VTIMEZONE
TZID:my/AEDT
BEGIN:STANDARD
DTSTART:19700101T010000
TZOFFSETFROM:+1100
TZOFFSETTO:+1100
END:STANDARD
END:VTIMEZONE
BEGIN:VEVENT
UID:scnitm-4042139-1776961221-1
DTSTART;TZID=my/AEDT:20260313T120000
DTEND;TZID=my/AEDT:20260313T130000
SUMMARY:Colloquium 1: Irrational ways of manufacturing numbers
DESCRIPTION:See scnews item https://extern.maths.usyd.edu.au/s/scnitm/cmeister-SMRI-sInternationalDayOfM
LOCATION:Carslaw 175
END:VEVENT
BEGIN:VEVENT
UID:scnitm-4042139-1776961221-2
DTSTART;TZID=my/AEDT:20260316T140000
DTEND;TZID=my/AEDT:20260316T150000
SUMMARY:Colloquium 2: Pure mathematics as applied physics
DESCRIPTION:See scnews item https://extern.maths.usyd.edu.au/s/scnitm/cmeister-SMRI-sInternationalDayOfM
LOCATION:A11.01.101.Edgeworth David Building.Old Geology Lecture Theatre
END:VEVENT
END:VCALENDAR

